Package: eisaR Version: 1.22.1 Command: /home/biocbuild/bbs-3.22-bioc/R/bin/R CMD INSTALL eisaR StartedAt: 2025-11-06 15:24:50 -0500 (Thu, 06 Nov 2025) EndedAt: 2025-11-06 15:25:11 -0500 (Thu, 06 Nov 2025) EllapsedTime: 20.5 seconds RetCode: 0 Status: OK