Package: eisaR Version: 1.22.1 Command: /home/biocbuild/bbs-3.22-bioc/R/bin/R CMD check --install=check:eisaR.install-out.txt --library=/home/biocbuild/bbs-3.22-bioc/R/site-library --timings eisaR_1.22.1.tar.gz StartedAt: 2025-11-09 23:27:59 -0500 (Sun, 09 Nov 2025) EndedAt: 2025-11-09 23:33:05 -0500 (Sun, 09 Nov 2025) EllapsedTime: 305.3 seconds RetCode: 0 Status: OK CheckDir: eisaR.Rcheck Warnings: 0