Package: eisaR Version: 1.22.1 Command: /home/biocbuild/bbs-3.22-bioc/R/bin/R CMD build --keep-empty-dirs --no-resave-data --md5 eisaR StartedAt: 2025-11-06 17:29:07 -0500 (Thu, 06 Nov 2025) EndedAt: 2025-11-06 17:30:34 -0500 (Thu, 06 Nov 2025) EllapsedTime: 87.1 seconds RetCode: 0 Status: OK PackageFile: eisaR_1.22.1.tar.gz PackageFileSize: 1.908 MiB