Package: eisaR Version: 1.20.0 Command: /home/biocbuild/bbs-3.21-bioc/R/bin/R CMD check --install=check:eisaR.install-out.txt --library=/home/biocbuild/bbs-3.21-bioc/R/site-library --timings eisaR_1.20.0.tar.gz StartedAt: 2025-09-21 22:52:08 -0400 (Sun, 21 Sep 2025) EndedAt: 2025-09-21 22:57:05 -0400 (Sun, 21 Sep 2025) EllapsedTime: 296.4 seconds RetCode: 0 Status: OK CheckDir: eisaR.Rcheck Warnings: 0