Package: eds Version: 1.10.0 Command: /home/biocbuild/bbs-3.21-bioc/R/bin/R CMD INSTALL eds StartedAt: 2025-10-15 15:04:39 -0400 (Wed, 15 Oct 2025) EndedAt: 2025-10-15 15:04:49 -0400 (Wed, 15 Oct 2025) EllapsedTime: 10.4 seconds RetCode: 0 Status: OK