Package: eds Version: 1.10.0 Command: /home/biocbuild/bbs-3.21-bioc/R/bin/R CMD check --install=check:eds.install-out.txt --library=/home/biocbuild/bbs-3.21-bioc/R/site-library --timings eds_1.10.0.tar.gz StartedAt: 2025-10-15 22:54:14 -0400 (Wed, 15 Oct 2025) EndedAt: 2025-10-15 22:54:52 -0400 (Wed, 15 Oct 2025) EllapsedTime: 38.1 seconds RetCode: 0 Status: OK CheckDir: eds.Rcheck Warnings: 0