Package: eds Version: 1.10.0 Command: /home/biocbuild/bbs-3.21-bioc/R/bin/R CMD build --keep-empty-dirs --no-resave-data eds StartedAt: 2025-10-15 17:20:22 -0400 (Wed, 15 Oct 2025) EndedAt: 2025-10-15 17:20:35 -0400 (Wed, 15 Oct 2025) EllapsedTime: 13.0 seconds RetCode: 0 Status: OK PackageFile: eds_1.10.0.tar.gz PackageFileSize: 217.3 KiB