Package: eds Version: 1.10.0 Command: /Library/Frameworks/R.framework/Resources/bin/R CMD build --keep-empty-dirs --no-resave-data eds StartedAt: 2025-04-21 16:41:34 -0400 (Mon, 21 Apr 2025) EndedAt: 2025-04-21 16:41:51 -0400 (Mon, 21 Apr 2025) EllapsedTime: 17.1 seconds RetCode: 0 Status: OK PackageFile: eds_1.10.0.tar.gz PackageFileSize: 217.2 KiB