Package: eds Version: 1.10.0 Command: /Library/Frameworks/R.framework/Resources/bin/R CMD INSTALL eds StartedAt: 2025-09-29 15:20:08 -0400 (Mon, 29 Sep 2025) EndedAt: 2025-09-29 15:20:20 -0400 (Mon, 29 Sep 2025) EllapsedTime: 11.5 seconds RetCode: 0 Status: OK