Package: eds Version: 1.10.0 Command: /Library/Frameworks/R.framework/Resources/bin/R CMD check --install=check:eds.install-out.txt --library=/Library/Frameworks/R.framework/Resources/library --no-vignettes --timings eds_1.10.0.tar.gz StartedAt: 2025-09-30 20:21:19 -0400 (Tue, 30 Sep 2025) EndedAt: 2025-09-30 20:22:11 -0400 (Tue, 30 Sep 2025) EllapsedTime: 51.7 seconds RetCode: 0 Status: OK CheckDir: eds.Rcheck Warnings: 0