Package: edgeR Version: 4.6.3 Command: /home/biocbuild/R/R/bin/R CMD check --install=check:edgeR.install-out.txt --library=/home/biocbuild/R/R/site-library --no-vignettes --timings edgeR_4.6.3.tar.gz StartedAt: 2025-09-26 10:16:19 -0000 (Fri, 26 Sep 2025) EndedAt: 2025-09-26 10:18:00 -0000 (Fri, 26 Sep 2025) EllapsedTime: 101.0 seconds RetCode: 0 Status: OK CheckDir: edgeR.Rcheck Warnings: 0