Package: edge Version: 2.42.0 Command: /home/biocbuild/bbs-3.22-bioc/R/bin/R CMD INSTALL edge StartedAt: 2025-11-09 15:27:49 -0500 (Sun, 09 Nov 2025) EndedAt: 2025-11-09 15:28:16 -0500 (Sun, 09 Nov 2025) EllapsedTime: 27.7 seconds RetCode: 0 Status: OK