Package: edge Version: 2.42.0 Command: /home/biocbuild/bbs-3.22-bioc/R/bin/R CMD build --keep-empty-dirs --no-resave-data --md5 edge StartedAt: 2025-11-09 17:32:42 -0500 (Sun, 09 Nov 2025) EndedAt: 2025-11-09 17:33:40 -0500 (Sun, 09 Nov 2025) EllapsedTime: 58.1 seconds RetCode: 0 Status: OK PackageFile: edge_2.42.0.tar.gz PackageFileSize: 1008 KiB