Package: edge Version: 2.42.0 Maintainer: John D. Storey , Andrew J. Bass MaintainerEmail: ajbass at emory.edu git_url: https://git.bioconductor.org/packages/edge git_branch: RELEASE_3_22 git_last_commit: fe1a757 git_last_commit_date: 2025-10-29 10:25:58 -0500 (Wed, 29 Oct 2025)