Package: ecolitk Version: 1.80.0 Command: rm -rf ecolitk.buildbin-libdir && mkdir ecolitk.buildbin-libdir && E:\biocbuild\bbs-3.21-bioc\R\bin\R.exe CMD INSTALL --build --library=ecolitk.buildbin-libdir ecolitk_1.80.0.tar.gz StartedAt: 2025-08-15 09:13:14 -0400 (Fri, 15 Aug 2025) EndedAt: 2025-08-15 09:13:32 -0400 (Fri, 15 Aug 2025) EllapsedTime: 17.5 seconds RetCode: 0 Status: OK PackageFile: ecolitk_1.80.0.zip PackageFileSize: 1.734 MiB