Package: ecolitk Version: 1.80.0 Command: /Library/Frameworks/R.framework/Resources/bin/R CMD check --install=check:ecolitk.install-out.txt --library=/Library/Frameworks/R.framework/Resources/library --no-vignettes --timings ecolitk_1.80.0.tar.gz StartedAt: 2025-10-14 03:15:35 -0400 (Tue, 14 Oct 2025) EndedAt: 2025-10-14 03:16:43 -0400 (Tue, 14 Oct 2025) EllapsedTime: 68.2 seconds RetCode: 0 Status: WARNINGS CheckDir: ecolitk.Rcheck Warnings: 1