Package: ecolitk Version: 1.80.0 Command: /home/biocbuild/R/R/bin/R CMD check --install=check:ecolitk.install-out.txt --library=/home/biocbuild/R/R/site-library --no-vignettes --timings ecolitk_1.80.0.tar.gz StartedAt: 2025-10-14 08:46:00 -0000 (Tue, 14 Oct 2025) EndedAt: 2025-10-14 08:46:33 -0000 (Tue, 14 Oct 2025) EllapsedTime: 33.0 seconds RetCode: 0 Status: WARNINGS CheckDir: ecolitk.Rcheck Warnings: 1