Package: easylift Version: 1.8.0 Command: /home/biocbuild/bbs-3.22-bioc/R/bin/R CMD check --install=check:easylift.install-out.txt --library=/home/biocbuild/bbs-3.22-bioc/R/site-library --timings easylift_1.8.0.tar.gz StartedAt: 2025-11-06 23:13:35 -0500 (Thu, 06 Nov 2025) EndedAt: 2025-11-06 23:17:47 -0500 (Thu, 06 Nov 2025) EllapsedTime: 252.3 seconds RetCode: 0 Status: OK CheckDir: easylift.Rcheck Warnings: 0