Package: easylift Version: 1.8.0 Command: /Library/Frameworks/R.framework/Resources/bin/R CMD check --install=check:easylift.install-out.txt --library=/Library/Frameworks/R.framework/Resources/library --no-vignettes --timings easylift_1.8.0.tar.gz StartedAt: 2025-10-31 20:59:25 -0400 (Fri, 31 Oct 2025) EndedAt: 2025-10-31 21:03:49 -0400 (Fri, 31 Oct 2025) EllapsedTime: 264.0 seconds RetCode: 0 Status: OK CheckDir: easylift.Rcheck Warnings: 0