Package: easylift Version: 1.8.0 Command: /Library/Frameworks/R.framework/Resources/bin/R CMD build --keep-empty-dirs --no-resave-data easylift StartedAt: 2025-10-31 16:57:44 -0400 (Fri, 31 Oct 2025) EndedAt: 2025-10-31 16:58:40 -0400 (Fri, 31 Oct 2025) EllapsedTime: 56.0 seconds RetCode: 0 Status: OK PackageFile: easylift_1.8.0.tar.gz PackageFileSize: 673.5 KiB