Package: easier Version: 1.14.0 Command: chmod a+r easier -R && E:\biocbuild\bbs-3.21-bioc\R\bin\R.exe CMD build --keep-empty-dirs --no-resave-data easier StartedAt: 2025-08-14 18:45:12 -0400 (Thu, 14 Aug 2025) EndedAt: 2025-08-14 18:53:18 -0400 (Thu, 14 Aug 2025) EllapsedTime: 485.7 seconds RetCode: 0 Status: OK PackageFile: easier_1.14.0.tar.gz PackageFileSize: 2.659 MiB