Package: easier Version: 1.14.0 Command: rm -rf easier.buildbin-libdir && mkdir easier.buildbin-libdir && E:\biocbuild\bbs-3.21-bioc\R\bin\R.exe CMD INSTALL --build --library=easier.buildbin-libdir easier_1.14.0.tar.gz StartedAt: 2025-08-15 09:12:59 -0400 (Fri, 15 Aug 2025) EndedAt: 2025-08-15 09:13:53 -0400 (Fri, 15 Aug 2025) EllapsedTime: 54.4 seconds RetCode: 0 Status: OK PackageFile: easier_1.14.0.zip PackageFileSize: 1.866 MiB