Package: easier Version: 1.14.0 Command: /Library/Frameworks/R.framework/Resources/bin/R CMD INSTALL easier StartedAt: 2025-09-25 16:48:23 -0400 (Thu, 25 Sep 2025) EndedAt: 2025-09-25 16:49:03 -0400 (Thu, 25 Sep 2025) EllapsedTime: 40.1 seconds RetCode: 0 Status: OK