Package: dupRadar Version: 1.38.0 Command: /home/biocbuild/bbs-3.21-bioc/R/bin/R CMD build --keep-empty-dirs --no-resave-data dupRadar StartedAt: 2025-09-28 17:33:30 -0400 (Sun, 28 Sep 2025) EndedAt: 2025-09-28 17:34:05 -0400 (Sun, 28 Sep 2025) EllapsedTime: 35.0 seconds RetCode: 0 Status: OK PackageFile: dupRadar_1.38.0.tar.gz PackageFileSize: 4.14 MiB