Package: drugTargetInteractions Version: 1.16.0 Command: /Library/Frameworks/R.framework/Resources/bin/R CMD build --keep-empty-dirs --no-resave-data drugTargetInteractions StartedAt: 2025-10-13 18:45:50 -0400 (Mon, 13 Oct 2025) EndedAt: 2025-10-13 18:49:05 -0400 (Mon, 13 Oct 2025) EllapsedTime: 195.3 seconds RetCode: 0 Status: OK PackageFile: drugTargetInteractions_1.16.0.tar.gz PackageFileSize: 958.6 KiB