Package: drugTargetInteractions Version: 1.16.0 Command: /home/biocbuild/R/R/bin/R CMD check --install=check:drugTargetInteractions.install-out.txt --library=/home/biocbuild/R/R/site-library --no-vignettes --timings drugTargetInteractions_1.16.0.tar.gz StartedAt: 2025-10-14 08:41:52 -0000 (Tue, 14 Oct 2025) EndedAt: 2025-10-14 08:49:34 -0000 (Tue, 14 Oct 2025) EllapsedTime: 462.4 seconds RetCode: 0 Status: OK CheckDir: drugTargetInteractions.Rcheck Warnings: 0