Package: drugTargetInteractions Version: 1.16.0 Command: /home/biocbuild/R/R/bin/R CMD build --keep-empty-dirs --no-resave-data drugTargetInteractions StartedAt: 2025-10-14 00:29:35 -0000 (Tue, 14 Oct 2025) EndedAt: 2025-10-14 00:31:49 -0000 (Tue, 14 Oct 2025) EllapsedTime: 134.0 seconds RetCode: 0 Status: OK PackageFile: drugTargetInteractions_1.16.0.tar.gz PackageFileSize: 1.03 MiB