Package: drugTargetInteractions Version: 1.16.0 Command: /Library/Frameworks/R.framework/Resources/bin/R CMD INSTALL drugTargetInteractions StartedAt: 2025-10-13 17:21:12 -0400 (Mon, 13 Oct 2025) EndedAt: 2025-10-13 17:21:57 -0400 (Mon, 13 Oct 2025) EllapsedTime: 45.0 seconds RetCode: 0 Status: OK