Package: drugTargetInteractions Version: 1.16.0 Command: /Library/Frameworks/R.framework/Resources/bin/R CMD check --install=check:drugTargetInteractions.install-out.txt --library=/Library/Frameworks/R.framework/Resources/library --no-vignettes --timings drugTargetInteractions_1.16.0.tar.gz StartedAt: 2025-10-14 20:12:16 -0400 (Tue, 14 Oct 2025) EndedAt: 2025-10-14 20:19:27 -0400 (Tue, 14 Oct 2025) EllapsedTime: 430.3 seconds RetCode: 0 Status: OK CheckDir: drugTargetInteractions.Rcheck Warnings: 0