Package: drawProteins Version: 1.30.0 Command: /Library/Frameworks/R.framework/Resources/bin/R CMD check --install=check:drawProteins.install-out.txt --library=/Library/Frameworks/R.framework/Resources/library --no-vignettes --timings drawProteins_1.30.0.tar.gz StartedAt: 2025-11-09 19:35:59 -0500 (Sun, 09 Nov 2025) EndedAt: 2025-11-09 19:36:25 -0500 (Sun, 09 Nov 2025) EllapsedTime: 26.3 seconds RetCode: 1 Status: ERROR CheckDir: drawProteins.Rcheck Warnings: NA