Package: doppelgangR Version: 1.36.1 Command: E:\biocbuild\bbs-3.21-bioc\R\bin\R.exe CMD INSTALL doppelgangR StartedAt: 2025-08-14 16:19:41 -0400 (Thu, 14 Aug 2025) EndedAt: 2025-08-14 16:20:54 -0400 (Thu, 14 Aug 2025) EllapsedTime: 73.2 seconds RetCode: 0 Status: OK