Package: doppelgangR Version: 1.36.1 Command: rm -rf doppelgangR.buildbin-libdir && mkdir doppelgangR.buildbin-libdir && E:\biocbuild\bbs-3.21-bioc\R\bin\R.exe CMD INSTALL --build --library=doppelgangR.buildbin-libdir doppelgangR_1.36.1.tar.gz StartedAt: 2025-08-15 09:12:09 -0400 (Fri, 15 Aug 2025) EndedAt: 2025-08-15 09:13:07 -0400 (Fri, 15 Aug 2025) EllapsedTime: 58.5 seconds RetCode: 0 Status: OK PackageFile: doppelgangR_1.36.1.zip PackageFileSize: 814.2 KiB