Package: doppelgangR Version: 1.36.0 Command: rm -rf doppelgangR.buildbin-libdir && mkdir doppelgangR.buildbin-libdir && /Users/biocbuild/BBS/utils/build-universal.sh doppelgangR_1.36.0.tar.gz /Library/Frameworks/R.framework/Resources/bin/R doppelgangR.buildbin-libdir StartedAt: 2025-04-21 22:33:30 -0400 (Mon, 21 Apr 2025) EndedAt: 2025-04-21 22:33:45 -0400 (Mon, 21 Apr 2025) EllapsedTime: 14.3 seconds RetCode: 0 Status: OK PackageFile: doppelgangR_1.36.0.tgz PackageFileSize: 941.3 KiB