Package: dmrseq Version: 1.30.0 Command: /home/biocbuild/bbs-3.22-bioc/R/bin/R CMD INSTALL dmrseq StartedAt: 2025-11-02 15:56:24 -0500 (Sun, 02 Nov 2025) EndedAt: 2025-11-02 15:57:21 -0500 (Sun, 02 Nov 2025) EllapsedTime: 57.2 seconds RetCode: 0 Status: OK