Package: dmrseq Version: 1.30.0 Command: /home/biocbuild/bbs-3.22-bioc/R/bin/R CMD build --keep-empty-dirs --no-resave-data --md5 dmrseq StartedAt: 2025-10-31 17:32:26 -0400 (Fri, 31 Oct 2025) EndedAt: 2025-10-31 17:35:28 -0400 (Fri, 31 Oct 2025) EllapsedTime: 182.2 seconds RetCode: 0 Status: OK PackageFile: dmrseq_1.30.0.tar.gz PackageFileSize: 2.822 MiB