Package: dmGsea Version: 1.0.1 Command: /home/biocbuild/R/R/bin/R CMD build --keep-empty-dirs --no-resave-data dmGsea StartedAt: 2025-11-14 01:20:29 -0000 (Fri, 14 Nov 2025) EndedAt: 2025-11-14 01:30:17 -0000 (Fri, 14 Nov 2025) EllapsedTime: 588.2 seconds RetCode: 0 Status: OK PackageFile: dmGsea_1.0.1.tar.gz PackageFileSize: 2.024 MiB