Package: dmGsea Version: 0.99.11 Command: F:\biocbuild\bbs-3.22-bioc\R\bin\R.exe CMD INSTALL dmGsea StartedAt: 2025-08-14 16:13:28 -0400 (Thu, 14 Aug 2025) EndedAt: 2025-08-14 16:14:00 -0400 (Thu, 14 Aug 2025) EllapsedTime: 32.4 seconds RetCode: 0 Status: OK