Package: dmGsea Version: 0.99.11 Command: F:\biocbuild\bbs-3.22-bioc\R\bin\R.exe CMD check --no-multiarch --install=check:dmGsea.install-out.txt --library=F:\biocbuild\bbs-3.22-bioc\R\library --no-vignettes --timings dmGsea_0.99.11.tar.gz StartedAt: 2025-08-15 02:41:45 -0400 (Fri, 15 Aug 2025) EndedAt: 2025-08-15 02:50:43 -0400 (Fri, 15 Aug 2025) EllapsedTime: 538.4 seconds RetCode: 0 Status: OK CheckDir: dmGsea.Rcheck Warnings: 0