Package: dmGsea Version: 1.0.1 Command: /home/biocbuild/bbs-3.22-bioc/R/bin/R CMD INSTALL dmGsea StartedAt: 2025-11-13 15:31:59 -0500 (Thu, 13 Nov 2025) EndedAt: 2025-11-13 15:32:23 -0500 (Thu, 13 Nov 2025) EllapsedTime: 24.4 seconds RetCode: 0 Status: OK