Package: dmGsea Version: 1.0.1 Command: /home/biocbuild/bbs-3.22-bioc/R/bin/R CMD build --keep-empty-dirs --no-resave-data --md5 dmGsea StartedAt: 2025-11-13 17:24:34 -0500 (Thu, 13 Nov 2025) EndedAt: 2025-11-13 17:30:37 -0500 (Thu, 13 Nov 2025) EllapsedTime: 363.3 seconds RetCode: 0 Status: OK PackageFile: dmGsea_1.0.1.tar.gz PackageFileSize: 2.001 MiB