Package: dmGsea Version: 1.0.1 Command: /Library/Frameworks/R.framework/Resources/bin/R CMD build --keep-empty-dirs --no-resave-data dmGsea StartedAt: 2025-11-03 16:50:22 -0500 (Mon, 03 Nov 2025) EndedAt: 2025-11-03 16:58:10 -0500 (Mon, 03 Nov 2025) EllapsedTime: 467.5 seconds RetCode: 0 Status: OK PackageFile: dmGsea_1.0.1.tar.gz PackageFileSize: 2 MiB