Package: dmGsea Version: 1.0.1 Command: rm -rf dmGsea.buildbin-libdir && mkdir dmGsea.buildbin-libdir && /Users/biocbuild/BBS/utils/build-universal.sh dmGsea_1.0.1.tar.gz /Library/Frameworks/R.framework/Resources/bin/R dmGsea.buildbin-libdir StartedAt: 2025-11-04 01:37:34 -0500 (Tue, 04 Nov 2025) EndedAt: 2025-11-04 01:38:12 -0500 (Tue, 04 Nov 2025) EllapsedTime: 38.0 seconds RetCode: 0 Status: OK PackageFile: dmGsea_1.0.1.tgz PackageFileSize: 2.084 MiB