Package: dmGsea Version: 1.0.1 Command: /Library/Frameworks/R.framework/Resources/bin/R CMD INSTALL dmGsea StartedAt: 2025-11-10 15:16:01 -0500 (Mon, 10 Nov 2025) EndedAt: 2025-11-10 15:16:12 -0500 (Mon, 10 Nov 2025) EllapsedTime: 10.5 seconds RetCode: 0 Status: OK