Package: dmGsea Version: 1.0.1 Command: /Library/Frameworks/R.framework/Resources/bin/R CMD build --keep-empty-dirs --no-resave-data dmGsea StartedAt: 2025-11-10 16:13:55 -0500 (Mon, 10 Nov 2025) EndedAt: 2025-11-10 16:16:32 -0500 (Mon, 10 Nov 2025) EllapsedTime: 156.6 seconds RetCode: 0 Status: OK PackageFile: dmGsea_1.0.1.tar.gz PackageFileSize: 2.001 MiB