Package: dmGsea Version: 1.0.1 Command: rm -rf dmGsea.buildbin-libdir && mkdir dmGsea.buildbin-libdir && /Users/biocbuild/BBS/utils/build-universal.sh dmGsea_1.0.1.tar.gz /Library/Frameworks/R.framework/Resources/bin/R dmGsea.buildbin-libdir StartedAt: 2025-11-10 23:18:15 -0500 (Mon, 10 Nov 2025) EndedAt: 2025-11-10 23:18:26 -0500 (Mon, 10 Nov 2025) EllapsedTime: 11.2 seconds RetCode: 0 Status: OK PackageFile: dmGsea_1.0.1.tgz PackageFileSize: 2.085 MiB