Package: dmGsea Version: 1.0.1 Maintainer: Zongli Xu MaintainerEmail: xuz at niehs.nih.gov git_url: https://git.bioconductor.org/packages/dmGsea git_branch: RELEASE_3_22 git_last_commit: 8ba045b git_last_commit_date: 2025-10-31 09:46:15 -0500 (Fri, 31 Oct 2025)