Package: dks Version: 1.55.0 Command: /home/biocbuild/R/R/bin/R CMD build --keep-empty-dirs --no-resave-data dks StartedAt: 2025-10-20 23:24:42 -0000 (Mon, 20 Oct 2025) EndedAt: 2025-10-20 23:24:51 -0000 (Mon, 20 Oct 2025) EllapsedTime: 9.0 seconds RetCode: 0 Status: OK PackageFile: dks_1.55.0.tar.gz PackageFileSize: 588.9 KiB