Package: dks Version: 1.54.0 Command: /home/biocbuild/bbs-3.21-bioc/R/bin/R CMD INSTALL dks StartedAt: 2025-10-01 15:05:14 -0400 (Wed, 01 Oct 2025) EndedAt: 2025-10-01 15:05:18 -0400 (Wed, 01 Oct 2025) EllapsedTime: 4.0 seconds RetCode: 0 Status: OK