Package: dks Version: 1.56.0 Command: /Library/Frameworks/R.framework/Resources/bin/R CMD INSTALL dks StartedAt: 2025-11-03 15:09:18 -0500 (Mon, 03 Nov 2025) EndedAt: 2025-11-03 15:09:47 -0500 (Mon, 03 Nov 2025) EllapsedTime: 29.0 seconds RetCode: 0 Status: OK