Package: dks Version: 1.56.0 Command: /Library/Frameworks/R.framework/Resources/bin/R CMD build --keep-empty-dirs --no-resave-data dks StartedAt: 2025-11-03 16:50:01 -0500 (Mon, 03 Nov 2025) EndedAt: 2025-11-03 16:50:17 -0500 (Mon, 03 Nov 2025) EllapsedTime: 15.9 seconds RetCode: 0 Status: OK PackageFile: dks_1.56.0.tar.gz PackageFileSize: 600.7 KiB